BEGIN:VCALENDAR
VERSION:2.0
PRODID:-//#wir sind karneval - ECPv6.15.11//NONSGML v1.0//EN
CALSCALE:GREGORIAN
METHOD:PUBLISH
X-WR-CALNAME:#wir sind karneval
X-ORIGINAL-URL:https://wirsindkarneval.de
X-WR-CALDESC:Veranstaltungen für #wir sind karneval
REFRESH-INTERVAL;VALUE=DURATION:PT1H
X-Robots-Tag:noindex
X-PUBLISHED-TTL:PT1H
BEGIN:VTIMEZONE
TZID:Europe/Berlin
BEGIN:DAYLIGHT
TZOFFSETFROM:+0100
TZOFFSETTO:+0200
TZNAME:CEST
DTSTART:20250330T010000
END:DAYLIGHT
BEGIN:STANDARD
TZOFFSETFROM:+0200
TZOFFSETTO:+0100
TZNAME:CET
DTSTART:20251026T010000
END:STANDARD
BEGIN:DAYLIGHT
TZOFFSETFROM:+0100
TZOFFSETTO:+0200
TZNAME:CEST
DTSTART:20260329T010000
END:DAYLIGHT
BEGIN:STANDARD
TZOFFSETFROM:+0200
TZOFFSETTO:+0100
TZNAME:CET
DTSTART:20261025T010000
END:STANDARD
BEGIN:DAYLIGHT
TZOFFSETFROM:+0100
TZOFFSETTO:+0200
TZNAME:CEST
DTSTART:20270328T010000
END:DAYLIGHT
BEGIN:STANDARD
TZOFFSETFROM:+0200
TZOFFSETTO:+0100
TZNAME:CET
DTSTART:20271031T010000
END:STANDARD
END:VTIMEZONE
BEGIN:VEVENT
DTSTART;TZID=Europe/Berlin:20260220T180000
DTEND;TZID=Europe/Berlin:20260220T233000
DTSTAMP:20260424T053440
CREATED:20250929T070844Z
LAST-MODIFIED:20251001T085209Z
UID:1274-1771610400-1771630200@wirsindkarneval.de
SUMMARY:Sessionsabschluss KG Soffie von Gievenbeck e.V.
DESCRIPTION:Nicht öffentlich.
URL:https://wirsindkarneval.de/event/sessionsabschluss-4/
END:VEVENT
BEGIN:VEVENT
DTSTART;TZID=Europe/Berlin:20260218T191100
DTEND;TZID=Europe/Berlin:20260218T233000
DTSTAMP:20260424T053440
CREATED:20251030T101409Z
LAST-MODIFIED:20251030T101409Z
UID:1468-1771441860-1771457400@wirsindkarneval.de
SUMMARY:Fischessen Carneval Club Turmuhlen
DESCRIPTION:
URL:https://wirsindkarneval.de/event/fischessen-carneval-club-turmuhlen/
LOCATION:Dat Handorfer Huus
END:VEVENT
BEGIN:VEVENT
DTSTART;TZID=Europe/Berlin:20260218T191100
DTEND;TZID=Europe/Berlin:20260218T233000
DTSTAMP:20260424T053440
CREATED:20251001T081309Z
LAST-MODIFIED:20251001T081309Z
UID:1304-1771441860-1771457400@wirsindkarneval.de
SUMMARY:Fischessen KG Hiltrup
DESCRIPTION:
URL:https://wirsindkarneval.de/event/fischessen-kg-hiltrup/
LOCATION:Haus Bröker\, Hiltrup
END:VEVENT
BEGIN:VEVENT
DTSTART;TZID=Europe/Berlin:20260218T181100
DTEND;TZID=Europe/Berlin:20260218T233000
DTSTAMP:20260424T053440
CREATED:20250908T101453Z
LAST-MODIFIED:20251001T081422Z
UID:1089-1771438260-1771457400@wirsindkarneval.de
SUMMARY:Ausklang mit Fischessen KG die lustigen Westfalen
DESCRIPTION:Ort noch nicht bekannt\, nicht öffentlich.
URL:https://wirsindkarneval.de/event/ausklang-mit-fischessen/
END:VEVENT
BEGIN:VEVENT
DTSTART;TZID=Europe/Berlin:20260218T110000
DTEND;TZID=Europe/Berlin:20260218T170000
DTSTAMP:20260424T053440
CREATED:20251023T141122Z
LAST-MODIFIED:20251023T141122Z
UID:1428-1771412400-1771434000@wirsindkarneval.de
SUMMARY:Aschekreuz & Blutspendeaktion der KG Böse Geister
DESCRIPTION:Öffentlich.
URL:https://wirsindkarneval.de/event/aschekreuz-blutspendeaktion-der-kg-boese-geister/
LOCATION:Dom & Klarissengasse
END:VEVENT
BEGIN:VEVENT
DTSTART;TZID=Europe/Berlin:20260218T000000
DTEND;TZID=Europe/Berlin:20260218T000000
DTSTAMP:20260424T053440
CREATED:20250908T092133Z
LAST-MODIFIED:20251208T123934Z
UID:1053-1771372800-1771372800@wirsindkarneval.de
SUMMARY:Sessionsabschluss - AKG Emmerbachgeister e.V.
DESCRIPTION:Nicht öffentlich.
URL:https://wirsindkarneval.de/event/sessionsabschluss-3/
END:VEVENT
BEGIN:VEVENT
DTSTART;TZID=Europe/Berlin:20260217T191100
DTEND;TZID=Europe/Berlin:20260217T233000
DTSTAMP:20260424T053440
CREATED:20251023T140956Z
LAST-MODIFIED:20251023T140956Z
UID:1426-1771355460-1771371000@wirsindkarneval.de
SUMMARY:Sessionausklang & Fischessen mit Kappe ab - KG Böse Geister
DESCRIPTION:Nicht öffentlich.
URL:https://wirsindkarneval.de/event/sessionausklang-fischessen-mit-kappe-ab-kg-boese-geister/
LOCATION:Zwei Löwen Klub
END:VEVENT
BEGIN:VEVENT
DTSTART;TZID=Europe/Berlin:20260217T191100
DTEND;TZID=Europe/Berlin:20260217T233000
DTSTAMP:20260424T053440
CREATED:20251021T100940Z
LAST-MODIFIED:20251021T100940Z
UID:1368-1771355460-1771371000@wirsindkarneval.de
SUMMARY:Ausklang mit Schluckerbeerdigung KG Schwarz-weiss Münster e.V.
DESCRIPTION:Vereinsintern – Schnuppergäste willkommen.
URL:https://wirsindkarneval.de/event/ausklang-mit-schluckerbeerdigung-kg-schwarz-weiss-muenster-e-v/
LOCATION:Gaststätte Mauritius
END:VEVENT
BEGIN:VEVENT
DTSTART;TZID=Europe/Berlin:20260217T190000
DTEND;TZID=Europe/Berlin:20260217T233000
DTSTAMP:20260424T053440
CREATED:20250926T065315Z
LAST-MODIFIED:20251208T123902Z
UID:1234-1771354800-1771371000@wirsindkarneval.de
SUMMARY:Verabschiedung des Uhus Kunibert mit anschließendem Semesterausklang - KG Unwiesität
DESCRIPTION:Öffentlich.
URL:https://wirsindkarneval.de/event/verabschiedung-des-uhus-kunibert-mit-anschliessendem-semesterausklang/
LOCATION:Gaststätte Köpi-Stuben
END:VEVENT
BEGIN:VEVENT
DTSTART;TZID=Europe/Berlin:20260217T183000
DTEND;TZID=Europe/Berlin:20260217T221100
DTSTAMP:20260424T053440
CREATED:20250908T095242Z
LAST-MODIFIED:20251208T123843Z
UID:1080-1771353000-1771366260@wirsindkarneval.de
SUMMARY:Gemeinsames Fischessen der KG „Die Schlossgeister“ e.V.  - Fastnachtskumpanei Die Wiedertäufer am Buddenturm - KG Poahlbürger e.V.
DESCRIPTION:Sessionsabschluss mit Fischessen\, Musik\, Tanz und Kappenwurf. \nÖffentlich!
URL:https://wirsindkarneval.de/event/fischessen-9/
LOCATION:Paohlbürgerhof
END:VEVENT
BEGIN:VEVENT
DTSTART;TZID=Europe/Berlin:20260217T164500
DTEND;TZID=Europe/Berlin:20260217T233000
DTSTAMP:20260424T053440
CREATED:20251025T095608Z
LAST-MODIFIED:20251025T095608Z
UID:1442-1771346700-1771371000@wirsindkarneval.de
SUMMARY:Fischessen\, Kehraus\, Strafgericht über den Morio FK "Die Wiedertäufer am Buddenturm" e.V.
DESCRIPTION:Nicht öffentlich.
URL:https://wirsindkarneval.de/event/fischessen-kehraus-strafgericht-ueber-den-morio-fk-die-wiedertaeufer-am-buddenturm-e-v/
LOCATION:Paohlbürgerhof
END:VEVENT
BEGIN:VEVENT
DTSTART;VALUE=DATE:20260217
DTEND;VALUE=DATE:20260218
DTSTAMP:20260424T053440
CREATED:20260105T074749Z
LAST-MODIFIED:20260105T074749Z
UID:1581-1771286400-1771372799@wirsindkarneval.de
SUMMARY:Fischessen der KG Narrenzunft Aasee
DESCRIPTION:Anmeldung erforderlich.
URL:https://wirsindkarneval.de/event/fischessen-der-kg-narrenzunft-aasee/
END:VEVENT
BEGIN:VEVENT
DTSTART;VALUE=DATE:20260217
DTEND;VALUE=DATE:20260218
DTSTAMP:20260424T053440
CREATED:20250924T091033Z
LAST-MODIFIED:20251001T085146Z
UID:1221-1771286400-1771372799@wirsindkarneval.de
SUMMARY:Veilchendienstag Senatorenfrühschoppen KG Freudenthal
DESCRIPTION:Anmeldung über: \n\n\nSie sehen gerade einen Platzhalterinhalt von Standard. Um auf den eigentlichen Inhalt zuzugreifen\, klicken Sie auf den Button unten. Bitte beachten Sie\, dass dabei Daten an Drittanbieter weitergegeben werden. \n Inhalt entsperren Erforderlichen Service akzeptieren und Inhalte entsperren \n Weitere Informationen
URL:https://wirsindkarneval.de/event/veilchendienstag-senatorenfruehschoppen/
LOCATION:Atlantic Hotel Münster\, Engelstraße 39\, Münster\, 48143
END:VEVENT
BEGIN:VEVENT
DTSTART;VALUE=DATE:20260217
DTEND;VALUE=DATE:20260218
DTSTAMP:20260424T053440
CREATED:20250917T104953Z
LAST-MODIFIED:20251001T085127Z
UID:1146-1771286400-1771372799@wirsindkarneval.de
SUMMARY:Veilchendienstag KG Pängelanton e.V.
DESCRIPTION:
URL:https://wirsindkarneval.de/event/veilchendienstag/
LOCATION:Gremmendorf\, Münster\, 48167
END:VEVENT
BEGIN:VEVENT
DTSTART;TZID=Europe/Berlin:20260216T170000
DTEND;TZID=Europe/Berlin:20260216T220000
DTSTAMP:20260424T053440
CREATED:20250908T092039Z
LAST-MODIFIED:20251208T123345Z
UID:1051-1771261200-1771279200@wirsindkarneval.de
SUMMARY:Rosenmontags-Abschluss - AKG Emmerbachgeister e.V.
DESCRIPTION:Mit Verabschiedung der Kinder-Tollitäten. \nNicht öffentlich.
URL:https://wirsindkarneval.de/event/rosenmontags-abschluss/
LOCATION:Altes Gasthaus Freitag\, Amelsbüren
END:VEVENT
BEGIN:VEVENT
DTSTART;TZID=Europe/Berlin:20260216T123000
DTEND;TZID=Europe/Berlin:20260216T170000
DTSTAMP:20260424T053440
CREATED:20250926T065205Z
LAST-MODIFIED:20251001T085104Z
UID:1230-1771245000-1771261200@wirsindkarneval.de
SUMMARY:Treffen am Rosenmontagszug  KG Unwiesität
DESCRIPTION:Öffentlich.
URL:https://wirsindkarneval.de/event/treffen-am-rosenmontagszug/
LOCATION:Stadttheater/Ecke Neubrückenstraße\, Münster\, 48143\, Germany
END:VEVENT
BEGIN:VEVENT
DTSTART;TZID=Europe/Berlin:20260216T121100
DTEND;TZID=Europe/Berlin:20260216T180000
DTSTAMP:20260424T053440
CREATED:20250908T103156Z
LAST-MODIFIED:20250908T120422Z
UID:1093-1771243860-1771264800@wirsindkarneval.de
SUMMARY:Großer Rosenmontagsumzug durch Münster
DESCRIPTION:ab 12.11 Uhr startet der närrische Lindwurm durch Münsters Innenstadt.
URL:https://wirsindkarneval.de/event/grosser-rosenmontagsumzug-durch-muenster/
LOCATION:Schloss Münster
CATEGORIES:Umzüge
ATTACH;FMTTYPE=image/jpeg:https://wirsindkarneval.de/wp-content/uploads/2025/09/0423klein_Rosenmontag_2020_MarioBok.de_.jpg
ORGANIZER;CN="BMK":MAILTO:praesident@bmk-muenster.de
END:VEVENT
BEGIN:VEVENT
DTSTART;VALUE=DATE:20260216
DTEND;VALUE=DATE:20260217
DTSTAMP:20260424T053440
CREATED:20250924T090940Z
LAST-MODIFIED:20251001T080716Z
UID:1217-1771200000-1771286399@wirsindkarneval.de
SUMMARY:Rosenmontagsparty KG Freudenthal
DESCRIPTION:Anmeldung über: \n\n\nSie sehen gerade einen Platzhalterinhalt von Standard. Um auf den eigentlichen Inhalt zuzugreifen\, klicken Sie auf den Button unten. Bitte beachten Sie\, dass dabei Daten an Drittanbieter weitergegeben werden. \n Inhalt entsperren Erforderlichen Service akzeptieren und Inhalte entsperren \n Weitere Informationen
URL:https://wirsindkarneval.de/event/rosenmontagsparty-3/
LOCATION:Shooter Stars\, Alter Steinweg 36\, Münster\, 48143\, Germany
END:VEVENT
BEGIN:VEVENT
DTSTART;TZID=Europe/Berlin:20260215T180000
DTEND;TZID=Europe/Berlin:20260215T233000
DTSTAMP:20260424T053440
CREATED:20251208T124938Z
LAST-MODIFIED:20251208T125454Z
UID:1558-1771178400-1771198200@wirsindkarneval.de
SUMMARY:Party im Festzelt - AKG Emmerbachgeister e.V.
DESCRIPTION:Ü18! \nVorverkauf 15€ \nAbendkasse 17€
URL:https://wirsindkarneval.de/event/party-im-festzelt-akg-emmerbachgeister-e-v/
ATTACH;FMTTYPE=image/jpeg:https://wirsindkarneval.de/wp-content/uploads/2025/12/Party.jpg
END:VEVENT
BEGIN:VEVENT
DTSTART;TZID=Europe/Berlin:20260215T141100
DTEND;TZID=Europe/Berlin:20260215T180000
DTSTAMP:20260424T053440
CREATED:20250908T091816Z
LAST-MODIFIED:20251208T125927Z
UID:1048-1771164660-1771178400@wirsindkarneval.de
SUMMARY:Großer Umzug durch Amelsbüren - AKG Emmerbachgeister e.V.
DESCRIPTION:Das Davertdorf ist wieder außer Rand und Band – der närrische Lindwurm für Groß und Klein mit anschließender Party im Festzelt. \nÖffentlich.
URL:https://wirsindkarneval.de/event/grosser-umzug-durch-amelsbueren-mit-anschliessender-party/
LOCATION:Festzelt Amelsbüren\, Lailly-en-Val-Platz\, Münster\, 48163\, Germany
CATEGORIES:Umzüge
END:VEVENT
BEGIN:VEVENT
DTSTART;TZID=Europe/Berlin:20260215T111100
DTEND;TZID=Europe/Berlin:20260215T180000
DTSTAMP:20260424T053440
CREATED:20250908T112049Z
LAST-MODIFIED:20250908T120640Z
UID:1101-1771153860-1771178400@wirsindkarneval.de
SUMMARY:BMK Schlüsselübergabe
DESCRIPTION:Die tollen Tage stehen an und die Narren übernehmen die Macht: \nErst ziehen die Karnevalsgesellschaften aus Münster mit klingendem Spiel auf. \nDann werden das Jugendprinzenpaar der Stadt Münster und Prinz Christian II. der Stadt Münster mit großem Gefolge dem Oberbürgermeister die Schlüssel entreißen. Freut Euch auf ein tolles\, buntes Programm mit viel Musik und Tanz!
URL:https://wirsindkarneval.de/event/bmk-schluesseluebergabe/
LOCATION:Prinzipalmarkt\, Prinzipalmarkt\, Münster\, 448143\, Germany
ATTACH;FMTTYPE=image/jpeg:https://wirsindkarneval.de/wp-content/uploads/2024/10/Schluesseluebergabe022.jpg
ORGANIZER;CN="BMK":MAILTO:praesident@bmk-muenster.de
END:VEVENT
BEGIN:VEVENT
DTSTART;VALUE=DATE:20260215
DTEND;VALUE=DATE:20260216
DTSTAMP:20260424T053440
CREATED:20251001T081224Z
LAST-MODIFIED:20251001T081224Z
UID:1302-1771113600-1771199999@wirsindkarneval.de
SUMMARY:Umtrunk nach der Schlüsselübergabe KG Hiltrup
DESCRIPTION:
URL:https://wirsindkarneval.de/event/umtrunk-nach-der-schluesseluebergabe-kg-hiltrup/
LOCATION:Früh bis Spät
END:VEVENT
BEGIN:VEVENT
DTSTART;TZID=Europe/Berlin:20260214T193300
DTEND;TZID=Europe/Berlin:20260214T233000
DTSTAMP:20260424T053440
CREATED:20250908T091659Z
LAST-MODIFIED:20251208T125134Z
UID:1046-1771097580-1771111800@wirsindkarneval.de
SUMMARY:Gala-Prunksitzung "Geisternacht am Emmerbach" - AKG Emmerbachgeister e.V.
DESCRIPTION:Öffentlich. \nEinlass: 19:11 Uhr \nEintritt für Mitglieder: 25€
URL:https://wirsindkarneval.de/event/geisternacht-am-emmerbach-2/
LOCATION:Festzelt Amelsbüren\, Lailly-en-Val-Platz\, Münster\, 48163\, Germany
ATTACH;FMTTYPE=image/jpeg:https://wirsindkarneval.de/wp-content/uploads/2025/09/Gala-1.jpg
END:VEVENT
BEGIN:VEVENT
DTSTART;TZID=Europe/Berlin:20260214T190000
DTEND;TZID=Europe/Berlin:20260214T233000
DTSTAMP:20260424T053440
CREATED:20260105T074519Z
LAST-MODIFIED:20260112T120828Z
UID:1579-1771095600-1771111800@wirsindkarneval.de
SUMMARY:KaSaKoBa der KG Narrenzunft Aasee
DESCRIPTION:Keine Anmeldung erforderlich.
URL:https://wirsindkarneval.de/event/kasakoba-der-kg-narrenzunft-aasee/
LOCATION:Hof Hesselmann
ATTACH;FMTTYPE=image/jpeg:https://wirsindkarneval.de/wp-content/uploads/2026/01/KASAKOBA.jpg
END:VEVENT
BEGIN:VEVENT
DTSTART;TZID=Europe/Berlin:20260214T150000
DTEND;TZID=Europe/Berlin:20260214T170000
DTSTAMP:20260424T053440
CREATED:20250929T070418Z
LAST-MODIFIED:20251001T085014Z
UID:1272-1771081200-1771088400@wirsindkarneval.de
SUMMARY:Kinderkarneval KG Soffie von Gievenbeck e.V.
DESCRIPTION:Öffentlich.
URL:https://wirsindkarneval.de/event/kinderkarneval-11/
LOCATION:La Vie
END:VEVENT
BEGIN:VEVENT
DTSTART;TZID=Europe/Berlin:20260214T143300
DTEND;TZID=Europe/Berlin:20260214T180000
DTSTAMP:20260424T053440
CREATED:20250908T091545Z
LAST-MODIFIED:20251208T121317Z
UID:1044-1771079580-1771092000@wirsindkarneval.de
SUMMARY:Kinderkarneval im Festzelt - AKG Emmerbachgeister e.V.
DESCRIPTION:öffentlich
URL:https://wirsindkarneval.de/event/kinderkarneval-im-festzelt/
LOCATION:Festzelt Amelsbüren\, Lailly-en-Val-Platz\, Münster\, 48163\, Germany
END:VEVENT
BEGIN:VEVENT
DTSTART;TZID=Europe/Berlin:20260214T111100
DTEND;TZID=Europe/Berlin:20260214T170000
DTSTAMP:20260424T053440
CREATED:20251023T140730Z
LAST-MODIFIED:20251023T140730Z
UID:1424-1771067460-1771088400@wirsindkarneval.de
SUMMARY:Bonbonladen KG Böse Geister
DESCRIPTION:Für Wagenbesatzungen & Gäste.
URL:https://wirsindkarneval.de/event/bonbonladen-kg-boese-geister/
END:VEVENT
BEGIN:VEVENT
DTSTART;VALUE=DATE:20260214
DTEND;VALUE=DATE:20260215
DTSTAMP:20260424T053440
CREATED:20250924T090003Z
LAST-MODIFIED:20251001T084950Z
UID:1215-1771027200-1771113599@wirsindkarneval.de
SUMMARY:Kinderkarneval KG Freudenthal
DESCRIPTION:Anmeldung über: \n\n\nSie sehen gerade einen Platzhalterinhalt von Standard. Um auf den eigentlichen Inhalt zuzugreifen\, klicken Sie auf den Button unten. Bitte beachten Sie\, dass dabei Daten an Drittanbieter weitergegeben werden. \n Inhalt entsperren Erforderlichen Service akzeptieren und Inhalte entsperren \n Weitere Informationen
URL:https://wirsindkarneval.de/event/kinderkarneval-10/
LOCATION:Atlantic Hotel Münster\, Engelstraße 39\, Münster\, 48143
END:VEVENT
BEGIN:VEVENT
DTSTART;TZID=Europe/Berlin:20260213T143000
DTEND;TZID=Europe/Berlin:20260213T170000
DTSTAMP:20260424T053440
CREATED:20251023T140629Z
LAST-MODIFIED:20251023T140629Z
UID:1422-1770993000-1771002000@wirsindkarneval.de
SUMMARY:Seniorennachmittag KG Böse Geister
DESCRIPTION:Nicht öffentlich.
URL:https://wirsindkarneval.de/event/seniorennachmittag-kg-boese-geister-2/
LOCATION:Maria Trost
END:VEVENT
BEGIN:VEVENT
DTSTART;TZID=Europe/Berlin:20260212T181100
DTEND;TZID=Europe/Berlin:20260212T233000
DTSTAMP:20260424T053440
CREATED:20251001T080354Z
LAST-MODIFIED:20251001T080354Z
UID:1296-1770919860-1770939000@wirsindkarneval.de
SUMMARY:Altweiberparty KG Hiltrup
DESCRIPTION:
URL:https://wirsindkarneval.de/event/altweiberparty-kg-hiltrup/
LOCATION:Kulturbahnhof Hiltrup
END:VEVENT
END:VCALENDAR