BEGIN:VCALENDAR
VERSION:2.0
PRODID:-//#wir sind karneval - ECPv6.15.11//NONSGML v1.0//EN
CALSCALE:GREGORIAN
METHOD:PUBLISH
X-ORIGINAL-URL:https://wirsindkarneval.de
X-WR-CALDESC:Veranstaltungen für #wir sind karneval
REFRESH-INTERVAL;VALUE=DURATION:PT1H
X-Robots-Tag:noindex
X-PUBLISHED-TTL:PT1H
BEGIN:VTIMEZONE
TZID:Europe/Berlin
BEGIN:DAYLIGHT
TZOFFSETFROM:+0100
TZOFFSETTO:+0200
TZNAME:CEST
DTSTART:20240331T010000
END:DAYLIGHT
BEGIN:STANDARD
TZOFFSETFROM:+0200
TZOFFSETTO:+0100
TZNAME:CET
DTSTART:20241027T010000
END:STANDARD
BEGIN:DAYLIGHT
TZOFFSETFROM:+0100
TZOFFSETTO:+0200
TZNAME:CEST
DTSTART:20250330T010000
END:DAYLIGHT
BEGIN:STANDARD
TZOFFSETFROM:+0200
TZOFFSETTO:+0100
TZNAME:CET
DTSTART:20251026T010000
END:STANDARD
BEGIN:DAYLIGHT
TZOFFSETFROM:+0100
TZOFFSETTO:+0200
TZNAME:CEST
DTSTART:20260329T010000
END:DAYLIGHT
BEGIN:STANDARD
TZOFFSETFROM:+0200
TZOFFSETTO:+0100
TZNAME:CET
DTSTART:20261025T010000
END:STANDARD
END:VTIMEZONE
BEGIN:VEVENT
DTSTART;VALUE=DATE:20251122
DTEND;VALUE=DATE:20251123
DTSTAMP:20260423T123359
CREATED:20250924T084918Z
LAST-MODIFIED:20251001T084453Z
UID:1205-1763769600-1763855999@wirsindkarneval.de
SUMMARY:Vergatterung der Garde KG Freudenthal
DESCRIPTION:Anmeldung über: \n\n\nSie sehen gerade einen Platzhalterinhalt von Standard. Um auf den eigentlichen Inhalt zuzugreifen\, klicken Sie auf den Button unten. Bitte beachten Sie\, dass dabei Daten an Drittanbieter weitergegeben werden. \n Inhalt entsperren Erforderlichen Service akzeptieren und Inhalte entsperren \n Weitere Informationen
URL:https://wirsindkarneval.de/event/vergatterung-der-garde/
LOCATION:Lilos\, Roggenmarkt 11\, Münster\, 48143\, Germany
END:VEVENT
BEGIN:VEVENT
DTSTART;TZID=Europe/Berlin:20251122T191100
DTEND;TZID=Europe/Berlin:20251122T233000
DTSTAMP:20260423T123359
CREATED:20251005T124401Z
LAST-MODIFIED:20251005T124401Z
UID:1345-1763838660-1763854200@wirsindkarneval.de
SUMMARY:Party Ahoi Kalinen de Luxe e.V.
DESCRIPTION:Öffentlich: komplett ausverkauft! \nEinlass: 18:11 Uhr
URL:https://wirsindkarneval.de/event/party-ahoi-kalinen-de-luxe-e-v/
LOCATION:Clubschiene\, Hafenstraße 64
END:VEVENT
BEGIN:VEVENT
DTSTART;TZID=Europe/Berlin:20251122T201100
DTEND;TZID=Europe/Berlin:20251122T233000
DTSTAMP:20260423T123359
CREATED:20250908T093821Z
LAST-MODIFIED:20250908T093821Z
UID:1062-1763842260-1763854200@wirsindkarneval.de
SUMMARY:Ernennung der Ehrensenatoren und Ehrensenatorinnen
DESCRIPTION:öffentlich
URL:https://wirsindkarneval.de/event/ernennung-der-ehrensenatoren-und-ehrensenatorinnen/
LOCATION:Tanzschule Berns
END:VEVENT
END:VCALENDAR